BEGIN:VCALENDAR
VERSION:2.0
CALSCALE:GREGORIAN
METHOD:PUBLISH
X-WR-TIMEZONE:UTC
BEGIN:VEVENT
SUMMARY:RECAP DIADA DE LES TIC A CATALUNYA 2025
DTSTART:20260608T070000Z
DTEND:20260608T113000Z
DTSTAMP:20260421T122650Z
UID:https://www.inscribirme.com/recapdiadadelesticacatalunya2025
CATEGORIES:
DESCRIPTION:https://www.inscribirme.com/recapdiadadelesticacatalunya2025
GEO:0.0;0.0
LOCATION:ESPAI BITAL José Agustín Goytisolo\, 22-28\, 08908\, L'HOSPITAL
 ET DE LLOBREGAT\, ES
URL:https://www.inscribirme.com/recapdiadadelesticacatalunya2025
END:VEVENT
END:VCALENDAR
