BEGIN:VCALENDAR
VERSION:2.0
CALSCALE:GREGORIAN
METHOD:PUBLISH
X-WR-TIMEZONE:UTC
BEGIN:VEVENT
SUMMARY:Online Taller  tutoría gramatical Preintermedio
DTSTART:20260424T160000Z
DTEND:20260424T170000Z
DTSTAMP:20260422T211733Z
UID:https://www.inscribirme.com/onlinetallertutoriagramaticalpreintermedio
CATEGORIES:
DESCRIPTION:https://www.inscribirme.com/onlinetallertutoriagramaticalprein
 termedio
GEO:0.0;0.0
URL:https://www.inscribirme.com/onlinetallertutoriagramaticalpreintermedio
END:VEVENT
END:VCALENDAR
