BEGIN:VCALENDAR
VERSION:2.0
CALSCALE:GREGORIAN
METHOD:PUBLISH
X-WR-TIMEZONE:UTC
BEGIN:VEVENT
SUMMARY:Online Taller  tutoría gramatical B1
DTSTART:20260424T170000Z
DTEND:20260424T181500Z
DTSTAMP:20260422T211840Z
UID:https://www.inscribirme.com/onlinetallertutoriagramaticalb1
CATEGORIES:
DESCRIPTION:https://www.inscribirme.com/onlinetallertutoriagramaticalb1
GEO:0.0;0.0
URL:https://www.inscribirme.com/onlinetallertutoriagramaticalb1
END:VEVENT
END:VCALENDAR
