BEGIN:VCALENDAR
VERSION:2.0
CALSCALE:GREGORIAN
METHOD:PUBLISH
X-WR-TIMEZONE:UTC
BEGIN:VEVENT
SUMMARY:Master Class Taller Todos Somos 1
DTSTART:20221119T190000Z
DTEND:20221119T203000Z
DTSTAMP:20260422T143930Z
UID:https://www.inscribirme.com/masterclasstallertodossomos1
CATEGORIES:
DESCRIPTION:https://www.inscribirme.com/masterclasstallertodossomos1
GEO:0.0;0.0
URL:https://www.inscribirme.com/masterclasstallertodossomos1
END:VEVENT
END:VCALENDAR
