BEGIN:VCALENDAR
VERSION:2.0
CALSCALE:GREGORIAN
METHOD:PUBLISH
X-WR-TIMEZONE:UTC
BEGIN:VEVENT
SUMMARY:Lliurament de premis europeus
DTSTART:20260514T163000Z
DTEND:20260514T181500Z
DTSTAMP:20260421T191525Z
UID:https://www.inscribirme.com/lliuramentdepremiseuropeus
CATEGORIES:
DESCRIPTION:https://www.inscribirme.com/lliuramentdepremiseuropeus
GEO:0.0;0.0
LOCATION:Biblioteca Jaume Fuster Pl. de Lesseps\, 20\, Gràcia\, 08023 Bar
 celona\, 08023\, Barcelona\, ES
URL:https://www.inscribirme.com/lliuramentdepremiseuropeus
END:VEVENT
END:VCALENDAR
