BEGIN:VCALENDAR
VERSION:2.0
CALSCALE:GREGORIAN
METHOD:PUBLISH
X-WR-TIMEZONE:UTC
BEGIN:VEVENT
SUMMARY:La Ronda. Claves sobre la crisis de las universidades en España.
DTSTART:20260423T160000Z
DTEND:20260423T180000Z
DTSTAMP:20260421T151841Z
UID:https://www.inscribirme.com/larondaclavessobrelacrisisdelasuniversidad
 esenespana
CATEGORIES:
DESCRIPTION:https://www.inscribirme.com/larondaclavessobrelacrisisdelasuni
 versidadesenespana
GEO:0.0;0.0
LOCATION:Colegio Mayor Universitario Santa María de Europa. C. de Cea Ber
 múdez\, 17\, Chamberí\, 28003 Madrid\, 28003\, Madrid\, ES
URL:https://www.inscribirme.com/larondaclavessobrelacrisisdelasuniversidad
 esenespana
END:VEVENT
END:VCALENDAR
