BEGIN:VCALENDAR
VERSION:2.0
CALSCALE:GREGORIAN
METHOD:PUBLISH
X-WR-TIMEZONE:UTC
BEGIN:VEVENT
SUMMARY:Fiesta 2026
DTSTART:20260606T173000Z
DTEND:20260606T215500Z
DTSTAMP:20260422T211331Z
UID:https://www.inscribirme.com/fiesta2026
CATEGORIES:
DESCRIPTION:https://www.inscribirme.com/fiesta2026
GEO:0.0;0.0
LOCATION:Beleza bar Ulica Grge Tuškana 37\, 10000\, Zagreb\, HR
URL:https://www.inscribirme.com/fiesta2026
END:VEVENT
END:VCALENDAR
