BEGIN:VCALENDAR
VERSION:2.0
CALSCALE:GREGORIAN
METHOD:PUBLISH
X-WR-TIMEZONE:UTC
BEGIN:VEVENT
SUMMARY:DOJO BENITATXELL - 16 de maig
DTSTART:20260516T083000Z
DTEND:20260516T100000Z
DTSTAMP:20260419T133152Z
UID:https://www.inscribirme.com/dojobenitatxell16demaig
CATEGORIES:
DESCRIPTION:https://www.inscribirme.com/dojobenitatxell16demaig
GEO:0.0;0.0
LOCATION:Aula de danses (Conservatori de Música) 77\, 03725\, El Poble No
 u de Benitatxell\, ES
URL:https://www.inscribirme.com/dojobenitatxell16demaig
END:VEVENT
END:VCALENDAR
