BEGIN:VCALENDAR
VERSION:2.0
CALSCALE:GREGORIAN
METHOD:PUBLISH
X-WR-TIMEZONE:UTC
BEGIN:VEVENT
SUMMARY:Beauty & Vermut | Maig 2026
DTSTART:20260516T080000Z
DTEND:20260516T110000Z
DTSTAMP:20260422T083826Z
UID:https://www.inscribirme.com/beautyvermutmaig2026
CATEGORIES:
DESCRIPTION:https://www.inscribirme.com/beautyvermutmaig2026
GEO:0.0;0.0
LOCATION:Torre del Fanal Carrer Can Noguera\, 76\, 08530\, La Garriga\, ES
URL:https://www.inscribirme.com/beautyvermutmaig2026
END:VEVENT
END:VCALENDAR
