BEGIN:VCALENDAR
VERSION:2.0
CALSCALE:GREGORIAN
METHOD:PUBLISH
X-WR-TIMEZONE:UTC
BEGIN:VEVENT
SUMMARY:Bajo las estrellas\; rumbo al eclipse solar. Observación astronó
 mica (25 de abril)
DTSTART:20260425T173000Z
DTEND:20260425T193000Z
DTSTAMP:20260425T032243Z
UID:https://www.inscribirme.com/bajolasestrellasrumboaleclipsesolarobserva
 cionastronomica25deabril
CATEGORIES:
DESCRIPTION:https://www.inscribirme.com/bajolasestrellasrumboaleclipsesola
 robservacionastronomica25deabril
GEO:0.0;0.0
LOCATION:Centro de Interpretación del Parque Natural de las lagunas de La
  Mata y Torrevieja Centro de Interpretación del Parque Natural de las lag
 unas de La Mata y Torrevieja\, 03188\, Torrevieja\, ES
URL:https://www.inscribirme.com/bajolasestrellasrumboaleclipsesolarobserva
 cionastronomica25deabril
END:VEVENT
END:VCALENDAR
